BEGIN:VCALENDAR
VERSION:2.0
PRODID:-//proWIN nexus - ECPv6.11.2.1//NONSGML v1.0//EN
CALSCALE:GREGORIAN
METHOD:PUBLISH
X-WR-CALNAME:proWIN nexus
X-ORIGINAL-URL:https://prowin-nexus.net
X-WR-CALDESC:Veranstaltungen für proWIN nexus
REFRESH-INTERVAL;VALUE=DURATION:PT1H
X-Robots-Tag:noindex
X-PUBLISHED-TTL:PT1H
BEGIN:VTIMEZONE
TZID:Europe/Berlin
BEGIN:DAYLIGHT
TZOFFSETFROM:+0100
TZOFFSETTO:+0200
TZNAME:CEST
DTSTART:20250330T010000
END:DAYLIGHT
BEGIN:STANDARD
TZOFFSETFROM:+0200
TZOFFSETTO:+0100
TZNAME:CET
DTSTART:20251026T010000
END:STANDARD
END:VTIMEZONE
BEGIN:VEVENT
DTSTART;TZID=Europe/Berlin:20250825T100000
DTEND;TZID=Europe/Berlin:20250825T120000
DTSTAMP:20260424T124616
CREATED:20241120T125316Z
LAST-MODIFIED:20250701T141122Z
UID:10000030-1756116000-1756123200@prowin-nexus.net
SUMMARY:Online-Meeting / nexus Strategie Team
DESCRIPTION:
URL:https://prowin-nexus.net/event/direktionsmeeting-online-8/
LOCATION:Zoom
CATEGORIES:nexus
END:VEVENT
BEGIN:VEVENT
DTSTART;TZID=Europe/Berlin:20250826T200000
DTEND;TZID=Europe/Berlin:20250826T213000
DTSTAMP:20260424T124616
CREATED:20241120T135248Z
LAST-MODIFIED:20241219T052335Z
UID:10000064-1756238400-1756243800@prowin-nexus.net
SUMMARY:onBoarding-Crashkurs
DESCRIPTION:
URL:https://prowin-nexus.net/event/onboarding-crashkurs-15/
LOCATION:Zoom
CATEGORIES:nexus
END:VEVENT
END:VCALENDAR