BEGIN:VCALENDAR
VERSION:2.0
PRODID:-//proWIN nexus - ECPv6.11.2.1//NONSGML v1.0//EN
CALSCALE:GREGORIAN
METHOD:PUBLISH
X-WR-CALNAME:proWIN nexus
X-ORIGINAL-URL:https://prowin-nexus.net
X-WR-CALDESC:Veranstaltungen für proWIN nexus
REFRESH-INTERVAL;VALUE=DURATION:PT1H
X-Robots-Tag:noindex
X-PUBLISHED-TTL:PT1H
BEGIN:VTIMEZONE
TZID:Europe/Berlin
BEGIN:DAYLIGHT
TZOFFSETFROM:+0100
TZOFFSETTO:+0200
TZNAME:CEST
DTSTART:20260329T010000
END:DAYLIGHT
BEGIN:STANDARD
TZOFFSETFROM:+0200
TZOFFSETTO:+0100
TZNAME:CET
DTSTART:20261025T010000
END:STANDARD
END:VTIMEZONE
BEGIN:VEVENT
DTSTART;TZID=Europe/Berlin:20260504T200000
DTEND;TZID=Europe/Berlin:20260504T213000
DTSTAMP:20260424T133802
CREATED:20251103T103126Z
LAST-MODIFIED:20251216T102209Z
UID:10000142-1777924800-1777930200@prowin-nexus.net
SUMMARY:onBoarding-Crashkurs
DESCRIPTION:OnBoarding-Crashkurs\nDies ist ein regelmäßig stattfindendes Meeting. Der Crashkurs findet alle 14 Tage statt und der Link ist dauerhaft gültig. \nhttps://zoom.us/j/98247129194?pwd=KeaXjTGWMaF9DDfdNpx8gSsZnVzrbL.1 \nMeeting-ID: 982 4712 9194\nKenncode: 767333
URL:https://prowin-nexus.net/event/onboarding-crashkurs-31/
LOCATION:Zoom
CATEGORIES:nexus
END:VEVENT
BEGIN:VEVENT
DTSTART;TZID=Europe/Berlin:20260506T093000
DTEND;TZID=Europe/Berlin:20260506T113000
DTSTAMP:20260424T133802
CREATED:20251103T102257Z
LAST-MODIFIED:20251103T102257Z
UID:10000129-1778059800-1778067000@prowin-nexus.net
SUMMARY:Online-Meeting / nexus Strategie Team
DESCRIPTION:
URL:https://prowin-nexus.net/event/online-meeting-nexus-strategie-team-5/
LOCATION:Zoom
CATEGORIES:nexus
END:VEVENT
BEGIN:VEVENT
DTSTART;TZID=Europe/Berlin:20260509T100000
DTEND;TZID=Europe/Berlin:20260509T150000
DTSTAMP:20260424T133802
CREATED:20251103T093948Z
LAST-MODIFIED:20251103T104800Z
UID:10000114-1778320800-1778338800@prowin-nexus.net
SUMMARY:Startseminar SR LIVE - proWIN Epping
DESCRIPTION:Bitte melde dich hierzu direkt im proWIN Intranet an. Den Termin findest du unter: https://prowin.app/events
URL:https://prowin-nexus.net/event/startseminar-sr-live-prowin-epping-9/
LOCATION:Raesfeld
CATEGORIES:proWIN
END:VEVENT
BEGIN:VEVENT
DTSTART;TZID=Europe/Berlin:20260513T120000
DTEND;TZID=Europe/Berlin:20260513T230000
DTSTAMP:20260424T133802
CREATED:20251031T105151Z
LAST-MODIFIED:20251031T105310Z
UID:10000105-1778673600-1778713200@prowin-nexus.net
SUMMARY:VL-TL3 Meeting LIVE
DESCRIPTION:
URL:https://prowin-nexus.net/event/vl-tl3-meeting-live-2026/
LOCATION:proWIN Akademie\, Landsweiler-Reden\, Saarland\, Germany
CATEGORIES:nexus
END:VEVENT
BEGIN:VEVENT
DTSTART;TZID=Europe/Berlin:20260519T200000
DTEND;TZID=Europe/Berlin:20260519T213000
DTSTAMP:20260424T133802
CREATED:20251103T103317Z
LAST-MODIFIED:20251216T102225Z
UID:10000134-1779220800-1779226200@prowin-nexus.net
SUMMARY:onBoarding-Crashkurs
DESCRIPTION:OnBoarding-Crashkurs\nDies ist ein regelmäßig stattfindendes Meeting. Der Crashkurs findet alle 14 Tage statt und der Link ist dauerhaft gültig. \nhttps://zoom.us/j/98247129194?pwd=KeaXjTGWMaF9DDfdNpx8gSsZnVzrbL.1 \nMeeting-ID: 982 4712 9194\nKenncode: 767333
URL:https://prowin-nexus.net/event/onboarding-crashkurs-32/
LOCATION:Zoom
CATEGORIES:nexus
END:VEVENT
BEGIN:VEVENT
DTSTART;TZID=Europe/Berlin:20260603T093000
DTEND;TZID=Europe/Berlin:20260603T113000
DTSTAMP:20260424T133802
CREATED:20251103T102334Z
LAST-MODIFIED:20251103T102334Z
UID:10000130-1780479000-1780486200@prowin-nexus.net
SUMMARY:Online-Meeting / nexus Strategie Team
DESCRIPTION:
URL:https://prowin-nexus.net/event/online-meeting-nexus-strategie-team-6/
LOCATION:Zoom
CATEGORIES:nexus
END:VEVENT
BEGIN:VEVENT
DTSTART;TZID=Europe/Berlin:20260603T200000
DTEND;TZID=Europe/Berlin:20260603T213000
DTSTAMP:20260424T133802
CREATED:20251103T103621Z
LAST-MODIFIED:20251216T102249Z
UID:10000136-1780516800-1780522200@prowin-nexus.net
SUMMARY:onBoarding-Crashkurs
DESCRIPTION:OnBoarding-Crashkurs\nDies ist ein regelmäßig stattfindendes Meeting. Der Crashkurs findet alle 14 Tage statt und der Link ist dauerhaft gültig. \nhttps://zoom.us/j/98247129194?pwd=KeaXjTGWMaF9DDfdNpx8gSsZnVzrbL.1 \nMeeting-ID: 982 4712 9194\nKenncode: 767333
URL:https://prowin-nexus.net/event/onboarding-crashkurs-33/
LOCATION:Zoom
CATEGORIES:nexus
END:VEVENT
BEGIN:VEVENT
DTSTART;TZID=Europe/Berlin:20260613T113000
DTEND;TZID=Europe/Berlin:20260613T200000
DTSTAMP:20260424T133802
CREATED:20251103T103759Z
LAST-MODIFIED:20251103T103942Z
UID:10000137-1781350200-1781380800@prowin-nexus.net
SUMMARY:proWIN nexus Power-Meeting
DESCRIPTION:Wettbewerbsbedingungen werden noch bekannt gegeben!
URL:https://prowin-nexus.net/event/prowin-nexus-power-meeting-2026/
LOCATION:proWIN Akademie\, Landsweiler-Reden\, Saarland\, Germany
CATEGORIES:nexus
END:VEVENT
BEGIN:VEVENT
DTSTART;TZID=Europe/Berlin:20260616T200000
DTEND;TZID=Europe/Berlin:20260616T213000
DTSTAMP:20260424T133802
CREATED:20251103T104224Z
LAST-MODIFIED:20251216T102302Z
UID:10000138-1781640000-1781645400@prowin-nexus.net
SUMMARY:onBoarding-Crashkurs
DESCRIPTION:OnBoarding-Crashkurs\nDies ist ein regelmäßig stattfindendes Meeting. Der Crashkurs findet alle 14 Tage statt und der Link ist dauerhaft gültig. \nhttps://zoom.us/j/98247129194?pwd=KeaXjTGWMaF9DDfdNpx8gSsZnVzrbL.1 \nMeeting-ID: 982 4712 9194\nKenncode: 767333
URL:https://prowin-nexus.net/event/onboarding-crashkurs-34/
LOCATION:Zoom
CATEGORIES:nexus
END:VEVENT
BEGIN:VEVENT
DTSTART;TZID=Europe/Berlin:20260620T100000
DTEND;TZID=Europe/Berlin:20260620T150000
DTSTAMP:20260424T133802
CREATED:20251103T104356Z
LAST-MODIFIED:20251103T104356Z
UID:10000139-1781949600-1781967600@prowin-nexus.net
SUMMARY:Startseminar NW LIVE - proWIN Epping
DESCRIPTION:Bitte melde dich hierzu direkt im proWIN Intranet an. Den Termin findest du unter: https://prowin.app/events
URL:https://prowin-nexus.net/event/startseminar-nw-live-prowin-epping/
LOCATION:Raesfeld
CATEGORIES:proWIN
END:VEVENT
BEGIN:VEVENT
DTSTART;TZID=Europe/Berlin:20260701T093000
DTEND;TZID=Europe/Berlin:20260701T113000
DTSTAMP:20260424T133802
CREATED:20251103T110804Z
LAST-MODIFIED:20251103T110804Z
UID:10000141-1782898200-1782905400@prowin-nexus.net
SUMMARY:Online-Meeting / nexus Strategie Team
DESCRIPTION:
URL:https://prowin-nexus.net/event/online-meeting-nexus-strategie-team-7/
LOCATION:Zoom
CATEGORIES:nexus
END:VEVENT
BEGIN:VEVENT
DTSTART;TZID=Europe/Berlin:20260704T100000
DTEND;TZID=Europe/Berlin:20260704T150000
DTSTAMP:20260424T133802
CREATED:20251103T094020Z
LAST-MODIFIED:20251103T104647Z
UID:10000115-1783159200-1783177200@prowin-nexus.net
SUMMARY:Startseminar SR LIVE - proWIN Epping
DESCRIPTION:Bitte melde dich hierzu direkt im proWIN Intranet an. Den Termin findest du unter: https://prowin.app/events
URL:https://prowin-nexus.net/event/startseminar-sr-live-prowin-epping-10/
LOCATION:Raesfeld
CATEGORIES:proWIN
END:VEVENT
BEGIN:VEVENT
DTSTART;TZID=Europe/Berlin:20260820T100000
DTEND;TZID=Europe/Berlin:20260820T120000
DTSTAMP:20260424T133802
CREATED:20251103T093129Z
LAST-MODIFIED:20251103T093129Z
UID:10000107-1787220000-1787227200@prowin-nexus.net
SUMMARY:VL-TL3 Meeting ONLINE
DESCRIPTION:
URL:https://prowin-nexus.net/event/vl-tl3-meeting-online-2/
LOCATION:Zoom
CATEGORIES:nexus
END:VEVENT
BEGIN:VEVENT
DTSTART;TZID=Europe/Berlin:20260910T100000
DTEND;TZID=Europe/Berlin:20260910T150000
DTSTAMP:20260424T133802
CREATED:20251103T094105Z
LAST-MODIFIED:20251103T104634Z
UID:10000116-1789034400-1789052400@prowin-nexus.net
SUMMARY:Startseminar SR LIVE - proWIN Epping
DESCRIPTION:Bitte melde dich hierzu direkt im proWIN Intranet an. Den Termin findest du unter: https://prowin.app/events
URL:https://prowin-nexus.net/event/startseminar-sr-live-prowin-epping-11/
LOCATION:Raesfeld
CATEGORIES:proWIN
END:VEVENT
BEGIN:VEVENT
DTSTART;TZID=Europe/Berlin:20261010T100000
DTEND;TZID=Europe/Berlin:20261010T150000
DTSTAMP:20260424T133802
CREATED:20251103T094139Z
LAST-MODIFIED:20251103T104617Z
UID:10000140-1791626400-1791644400@prowin-nexus.net
SUMMARY:Startseminar SR LIVE - proWIN Epping
DESCRIPTION:Bitte melde dich hierzu direkt im proWIN Intranet an. Den Termin findest du unter: https://prowin.app/events
URL:https://prowin-nexus.net/event/startseminar-sr-live-prowin-epping-12/
LOCATION:Raesfeld
CATEGORIES:proWIN
END:VEVENT
BEGIN:VEVENT
DTSTART;TZID=Europe/Berlin:20261103T100000
DTEND;TZID=Europe/Berlin:20261103T120000
DTSTAMP:20260424T133802
CREATED:20251103T093213Z
LAST-MODIFIED:20251103T093213Z
UID:10000108-1793700000-1793707200@prowin-nexus.net
SUMMARY:VL-TL3 Meeting ONLINE
DESCRIPTION:
URL:https://prowin-nexus.net/event/vl-tl3-meeting-online-3/
LOCATION:Zoom
CATEGORIES:nexus
END:VEVENT
BEGIN:VEVENT
DTSTART;TZID=Europe/Berlin:20261107T100000
DTEND;TZID=Europe/Berlin:20261107T150000
DTSTAMP:20260424T133802
CREATED:20251103T094204Z
LAST-MODIFIED:20251103T104606Z
UID:10000117-1794045600-1794063600@prowin-nexus.net
SUMMARY:Startseminar SR LIVE - proWIN Epping
DESCRIPTION:Bitte melde dich hierzu direkt im proWIN Intranet an. Den Termin findest du unter: https://prowin.app/events
URL:https://prowin-nexus.net/event/startseminar-sr-live-prowin-epping-13/
LOCATION:Raesfeld
CATEGORIES:proWIN
END:VEVENT
END:VCALENDAR